BEGIN:VCALENDAR
VERSION:2.0
PRODID:-//MŠ Srdíčko - ECPv5.16.4//NONSGML v1.0//EN
CALSCALE:GREGORIAN
METHOD:PUBLISH
X-WR-CALNAME:MŠ Srdíčko
X-ORIGINAL-URL:https://mssrdicko.ricany.cz
X-WR-CALDESC:Akce na MŠ Srdíčko
BEGIN:VTIMEZONE
TZID:Europe/Prague
BEGIN:DAYLIGHT
TZOFFSETFROM:+0100
TZOFFSETTO:+0200
TZNAME:CEST
DTSTART:20260329T010000
END:DAYLIGHT
BEGIN:STANDARD
TZOFFSETFROM:+0200
TZOFFSETTO:+0100
TZNAME:CET
DTSTART:20261025T010000
END:STANDARD
END:VTIMEZONE
BEGIN:VEVENT
DTSTART;TZID=Europe/Prague:20260512T093000
DTEND;TZID=Europe/Prague:20260512T233000
DTSTAMP:20260425T044914
CREATED:20260313T101951Z
LAST-MODIFIED:20260313T101951Z
UID:1130-1778578200-1778628600@mssrdicko.ricany.cz
SUMMARY:Sokolník Ondra
DESCRIPTION:
URL:https://mssrdicko.ricany.cz/kalendar/sokolnik-ondra/
CATEGORIES:kalendář bez hlavní stránky
END:VEVENT
END:VCALENDAR