BEGIN:VCALENDAR
VERSION:2.0
PRODID:-//MŠ Srdíčko - ECPv5.16.4//NONSGML v1.0//EN
CALSCALE:GREGORIAN
METHOD:PUBLISH
X-WR-CALNAME:MŠ Srdíčko
X-ORIGINAL-URL:https://mssrdicko.ricany.cz
X-WR-CALDESC:Akce na MŠ Srdíčko
BEGIN:VTIMEZONE
TZID:Europe/Prague
BEGIN:DAYLIGHT
TZOFFSETFROM:+0100
TZOFFSETTO:+0200
TZNAME:CEST
DTSTART:20260329T010000
END:DAYLIGHT
BEGIN:STANDARD
TZOFFSETFROM:+0200
TZOFFSETTO:+0100
TZNAME:CET
DTSTART:20261025T010000
END:STANDARD
END:VTIMEZONE
BEGIN:VEVENT
DTSTART;TZID=Europe/Prague:20260324T080000
DTEND;TZID=Europe/Prague:20260324T120000
DTSTAMP:20260425T061223
CREATED:20260204T112904Z
LAST-MODIFIED:20260204T112904Z
UID:1105-1774339200-1774353600@mssrdicko.ricany.cz
SUMMARY:Planetárium Praha "Zvídavá Eva"
DESCRIPTION:
URL:https://mssrdicko.ricany.cz/kalendar/planetarium-praha-zvidava-eva/
CATEGORIES:kalendář
END:VEVENT
END:VCALENDAR