BEGIN:VCALENDAR
VERSION:2.0
PRODID:-//MŠ Srdíčko - ECPv5.16.4//NONSGML v1.0//EN
CALSCALE:GREGORIAN
METHOD:PUBLISH
X-WR-CALNAME:MŠ Srdíčko
X-ORIGINAL-URL:https://mssrdicko.ricany.cz
X-WR-CALDESC:Akce na MŠ Srdíčko
BEGIN:VTIMEZONE
TZID:Europe/Prague
BEGIN:DAYLIGHT
TZOFFSETFROM:+0100
TZOFFSETTO:+0200
TZNAME:CEST
DTSTART:20240331T010000
END:DAYLIGHT
BEGIN:STANDARD
TZOFFSETFROM:+0200
TZOFFSETTO:+0100
TZNAME:CET
DTSTART:20241027T010000
END:STANDARD
END:VTIMEZONE
BEGIN:VEVENT
DTSTART;TZID=Europe/Prague:20240105T093000
DTEND;TZID=Europe/Prague:20240105T233000
DTSTAMP:20260425T045636
CREATED:20231002T090837Z
LAST-MODIFIED:20231002T091142Z
UID:409-1704447000-1704497400@mssrdicko.ricany.cz
SUMMARY:Malý zpracovatel odpadů - MTU\, Berušky\, Rybičky
DESCRIPTION:
URL:https://mssrdicko.ricany.cz/kalendar/maly-zpracovatel-odpadu-mtu-beruskyrybicky/
CATEGORIES:kalendář
END:VEVENT
END:VCALENDAR