BEGIN:VCALENDAR
VERSION:2.0
PRODID:-//MŠ Srdíčko - ECPv5.16.4//NONSGML v1.0//EN
CALSCALE:GREGORIAN
METHOD:PUBLISH
X-WR-CALNAME:MŠ Srdíčko
X-ORIGINAL-URL:https://mssrdicko.ricany.cz
X-WR-CALDESC:Akce na MŠ Srdíčko
BEGIN:VTIMEZONE
TZID:Europe/Prague
BEGIN:DAYLIGHT
TZOFFSETFROM:+0100
TZOFFSETTO:+0200
TZNAME:CEST
DTSTART:20250330T010000
END:DAYLIGHT
BEGIN:STANDARD
TZOFFSETFROM:+0200
TZOFFSETTO:+0100
TZNAME:CET
DTSTART:20251026T010000
END:STANDARD
END:VTIMEZONE
BEGIN:VEVENT
DTSTART;TZID=Europe/Prague:20251013T093000
DTEND;TZID=Europe/Prague:20251013T233000
DTSTAMP:20260425T132703
CREATED:20250829T073857Z
LAST-MODIFIED:20250829T075008Z
UID:990-1760347800-1760398200@mssrdicko.ricany.cz
SUMMARY:Dětská knihovna - Žabičky a Koťátka
DESCRIPTION:
URL:https://mssrdicko.ricany.cz/kalendar/detska-knihovna-zabicky-a-kotatka-2/
CATEGORIES:kalendář
END:VEVENT
END:VCALENDAR