BEGIN:VCALENDAR
VERSION:2.0
PRODID:-//MŠ Srdíčko - ECPv5.16.4//NONSGML v1.0//EN
CALSCALE:GREGORIAN
METHOD:PUBLISH
X-WR-CALNAME:MŠ Srdíčko
X-ORIGINAL-URL:https://mssrdicko.ricany.cz
X-WR-CALDESC:Akce na MŠ Srdíčko
BEGIN:VTIMEZONE
TZID:Europe/Prague
BEGIN:DAYLIGHT
TZOFFSETFROM:+0100
TZOFFSETTO:+0200
TZNAME:CEST
DTSTART:20260329T010000
END:DAYLIGHT
BEGIN:STANDARD
TZOFFSETFROM:+0200
TZOFFSETTO:+0100
TZNAME:CET
DTSTART:20261025T010000
END:STANDARD
END:VTIMEZONE
BEGIN:VEVENT
DTSTART;TZID=Europe/Prague:20260402T090000
DTEND;TZID=Europe/Prague:20260402T233000
DTSTAMP:20260425T033645
CREATED:20260204T113208Z
LAST-MODIFIED:20260204T113208Z
UID:1107-1775120400-1775172600@mssrdicko.ricany.cz
SUMMARY:Sanitka "Pepa"
DESCRIPTION:
URL:https://mssrdicko.ricany.cz/kalendar/sanitka-pepa-2/
CATEGORIES:kalendář
END:VEVENT
BEGIN:VEVENT
DTSTART;TZID=Europe/Prague:20260420T090000
DTEND;TZID=Europe/Prague:20260420T120000
DTSTAMP:20260425T033645
CREATED:20260204T113420Z
LAST-MODIFIED:20260204T113420Z
UID:1109-1776675600-1776686400@mssrdicko.ricany.cz
SUMMARY:Dětská knihovna  "Dítě je dítě"- Žabičky a Koťátka
DESCRIPTION:
URL:https://mssrdicko.ricany.cz/kalendar/detska-knihovna-dite-je-dite-zabicky-a-kotatka/
CATEGORIES:kalendář
END:VEVENT
BEGIN:VEVENT
DTSTART;TZID=Europe/Prague:20260427T090000
DTEND;TZID=Europe/Prague:20260427T120000
DTSTAMP:20260425T033645
CREATED:20260204T113534Z
LAST-MODIFIED:20260204T113534Z
UID:1111-1777280400-1777291200@mssrdicko.ricany.cz
SUMMARY:Dětská knihovna " Dítě je dítě" Berušky a Rybičky
DESCRIPTION:
URL:https://mssrdicko.ricany.cz/kalendar/detska-knihovna-dite-je-dite-berusky-a-rybicky/
CATEGORIES:kalendář
END:VEVENT
BEGIN:VEVENT
DTSTART;TZID=Europe/Prague:20260429T083000
DTEND;TZID=Europe/Prague:20260429T120000
DTSTAMP:20260425T033645
CREATED:20260204T113723Z
LAST-MODIFIED:20260204T113723Z
UID:1113-1777451400-1777464000@mssrdicko.ricany.cz
SUMMARY:Dobrovolní hasiči ve školce
DESCRIPTION:
URL:https://mssrdicko.ricany.cz/kalendar/dobrovolni-hasici-ve-skolce/
CATEGORIES:kalendář
END:VEVENT
BEGIN:VEVENT
DTSTART;VALUE=DATE:20260430
DTEND;VALUE=DATE:20260501
DTSTAMP:20260425T033645
CREATED:20260414T105923Z
LAST-MODIFIED:20260414T105923Z
UID:1154-1777507200-1777593599@mssrdicko.ricany.cz
SUMMARY:REJ ČARODĚJŮ A ČARODĚJNIC
DESCRIPTION:
URL:https://mssrdicko.ricany.cz/kalendar/rej-carodeju-a-carodejnic-2/
CATEGORIES:kalendář
END:VEVENT
END:VCALENDAR